BEGIN:VCALENDAR
VERSION:2.0
PRODID:-//Museo Rosas Narcao - ECPv6.15.17.1//NONSGML v1.0//EN
CALSCALE:GREGORIAN
METHOD:PUBLISH
X-WR-CALNAME:Museo Rosas Narcao
X-ORIGINAL-URL:https://museorosasnarcao.it/en/
X-WR-CALDESC:Events for Museo Rosas Narcao
REFRESH-INTERVAL;VALUE=DURATION:PT1H
X-Robots-Tag:noindex
X-PUBLISHED-TTL:PT1H
BEGIN:VTIMEZONE
TZID:UTC
BEGIN:STANDARD
TZOFFSETFROM:+0000
TZOFFSETTO:+0000
TZNAME:UTC
DTSTART:20230101T000000
END:STANDARD
END:VTIMEZONE
BEGIN:VEVENT
DTSTART;TZID=UTC:20241221T153000
DTEND;TZID=UTC:20241221T170000
DTSTAMP:20260422T224308
CREATED:20241213T185216Z
LAST-MODIFIED:20241213T185216Z
UID:2606-1734795000-1734800400@museorosasnarcao.it
SUMMARY:Narcao Culture and Tourism
DESCRIPTION:Saturday\, December 21\, 2024 3:30 p.m. \nCome discover the museum\, the Rosas mines and taste local products. \nFree admission\nRegistration required by email: ipetra.direzione@gmail.com by December 18\, 2024 \n 
URL:https://museorosasnarcao.it/en/event/narcao-culture-and-tourism/
LOCATION:Rosas Mine Museum\, Road Location Rosas\, Narcao\, South Sardinia\, 09010\, Italy
ATTACH;FMTTYPE=image/jpeg:https://museorosasnarcao.it/wp-content/uploads/2024/12/Narcao-Cultura-e-turismo.jpg
END:VEVENT
END:VCALENDAR