BEGIN:VCALENDAR
VERSION:2.0
PRODID:-//Museo Rosas Narcao - ECPv6.15.17.1//NONSGML v1.0//EN
CALSCALE:GREGORIAN
METHOD:PUBLISH
X-ORIGINAL-URL:https://museorosasnarcao.it/en/
X-WR-CALDESC:Events for Museo Rosas Narcao
REFRESH-INTERVAL;VALUE=DURATION:PT1H
X-Robots-Tag:noindex
X-PUBLISHED-TTL:PT1H
BEGIN:VTIMEZONE
TZID:UTC
BEGIN:STANDARD
TZOFFSETFROM:+0000
TZOFFSETTO:+0000
TZNAME:UTC
DTSTART:20240101T000000
END:STANDARD
END:VTIMEZONE
BEGIN:VEVENT
DTSTART;TZID=UTC:20250103T100000
DTEND;TZID=UTC:20250103T123000
DTSTAMP:20260422T132200
CREATED:20241212T232940Z
LAST-MODIFIED:20250213T074737Z
UID:2607-1735898400-1735907400@museorosasnarcao.it
SUMMARY:Little Miner's Workshop
DESCRIPTION:JANUARY 03\, 2025 \nAn exciting adventure that takes children into the heart of Sardinia’s mining history! The workshop is designed for young participants to experience mining in a practical\, educational and fun way\, immersing themselves in the atmosphere of the mine. \nWorkshop program: \nHistorical and cultural introduction:\n– Brief account of the importance of Rosas mines in the past.\n– Display of ancient tools and historical pictures to illustrate the work of miners. \n2. Dressing up the little miner:\n– Handing out helmets to make children feel like real miners and visiting the Rosas mine.\n– Guided tour inside the mine in the company of an experienced guide who will explain the features of the tunnels and the life of miners.\n– Interactive stories to engage children (e.g.\, anecdotes about oil lamps\, mine animals\, etc.). \n3. Searching for hidden treasures:\n– Children will search for minerals around the gallery.\n– Each participant will be able to take home a found “treasure” as a memento of the activity. \n4. Creative workshop:\n– Small mining souvenir. \nTarget audience:\nChildren aged 6 to 12 (maximum group of 20 participants). \nCost:\n€ 8 per child (including materials\, souvenirs and entrance to the mine).
URL:https://museorosasnarcao.it/en/event/little-miners-workshop/
LOCATION:Rosas Mine Museum\, Road Location Rosas\, Narcao\, South Sardinia\, 09010\, Italy
ATTACH;FMTTYPE=image/png:https://museorosasnarcao.it/wp-content/uploads/2024/12/piccolo-minatore-laboratorio.png
END:VEVENT
END:VCALENDAR