BEGIN:VCALENDAR
VERSION:2.0
PRODID:-//Museo Rosas Narcao - ECPv6.15.17.1//NONSGML v1.0//EN
CALSCALE:GREGORIAN
METHOD:PUBLISH
X-WR-CALNAME:Museo Rosas Narcao
X-ORIGINAL-URL:https://museorosasnarcao.it
X-WR-CALDESC:Eventi per Museo Rosas Narcao
REFRESH-INTERVAL;VALUE=DURATION:PT1H
X-Robots-Tag:noindex
X-PUBLISHED-TTL:PT1H
BEGIN:VTIMEZONE
TZID:UTC
BEGIN:STANDARD
TZOFFSETFROM:+0000
TZOFFSETTO:+0000
TZNAME:UTC
DTSTART:20230101T000000
END:STANDARD
END:VTIMEZONE
BEGIN:VEVENT
DTSTART;TZID=UTC:20241221T153000
DTEND;TZID=UTC:20241221T170000
DTSTAMP:20260422T021513
CREATED:20241213T185216Z
LAST-MODIFIED:20241213T185217Z
UID:2595-1734795000-1734800400@museorosasnarcao.it
SUMMARY:Narcao Cultura e Turismo
DESCRIPTION:Sabato 21 dicembre 2024 ore 15.30 \nVieni a scoprire il museo\, le miniere di Rosas e a degustare i prodotti del territorio. \nIngresso gratuito\nObbligo di iscrizione alla mail: ipetra.direzione@gmail.com entro il giorno 18 dicembre 2024 \n 
URL:https://museorosasnarcao.it/event/narcao-cultura-e-turismo/
LOCATION:Museo Miniera Rosas\, Strada Località Rosas\, Narcao\, Sud Sardegna\, 09010\, Italy
ATTACH;FMTTYPE=image/jpeg:https://museorosasnarcao.it/wp-content/uploads/2024/12/Narcao-Cultura-e-turismo.jpg
END:VEVENT
END:VCALENDAR